Workbook

Sheet Sheet1
C2: Deelnemerslijst VCA Examen voor scholen
C3: Liste des participants Examen VCA pour des écoles
A5: Uur | B5: Naam | C5: Voornaam | D5: Geboortedatum | E5: Geboorteplaats | F5: Taal / Langue | G5: Scholen
D6: (dd/mm/jjjj) | F6: (NL/FR/EN/DE/PT) - (VCA VOL : NL/FR/EN/DE)
A7: Heure | B7: Nom | C7: Prénom | D7: Date de naissance | E7: Lieu de naissance | F7: Langue | G7: Ecoles
D8: (jj/mm/aaaa) | F8: (NL/FR/EN/DE/PT) - (VCA VOL : NL/FR/EN/DE)
A9: 0.36458333
A10: 0.36458333
A11: 0.36458333
A12: 0.36458333
A13: 0.36458333
A14: 0.36458333
A15: 0.36458333
A16: 0.36458333
A17: 0.36458333
A18: 0.36458333
A19: 0.36458333
A20: 0.36458333
... A104: 0.64583333

Sheet Sheet2

Sheet Import
A1: First name | B1: Last name | C1: Email | D1: Language | E1: Username | F1: Birthdate (optional) | G1: External ID (optional) | H1: Groups (optional) | I1: Password (optional)
A2: =+Sheet1!#REF! -> #REF! | B2: =+Sheet1!#REF! -> #REF! | C2: =G2 & "@constructiv.be" -> #REF! | D2: NL | E2: 230628-27627-TF | F2: =+Sheet1!#REF! -> #REF! | G2: =SUBSTITUTE(SUBSTITUTE(Sheet1!#REF!,".",""),"-","") -> #REF! | H2: Spoorwegwerken Sessie 1A
A3: =+Sheet1!#REF! -> #REF! | B3: =+Sheet1!#REF! -> #REF! | C3: =G3 & "@constructiv.be" -> #REF! | D3: NL | E3: 230628-27627-TF | F3: =+Sheet1!#REF! -> #REF! | G3: =SUBSTITUTE(SUBSTITUTE(Sheet1!#REF!,".",""),"-","") -> #REF! | H3: Spoorwegwerken Sessie 1A
A4: =+Sheet1!#REF! -> #REF! | B4: =+Sheet1!#REF! -> #REF! | C4: =G4 & "@constructiv.be" -> #REF! | D4: NL | E4: 230628-27627-TF | F4: =+Sheet1!#REF! -> #REF! | G4: =SUBSTITUTE(SUBSTITUTE(Sheet1!#REF!,".",""),"-","") -> #REF! | H4: Spoorwegwerken Sessie 4A
A5: =+Sheet1!E5 -> Geboorteplaats | B5: =+Sheet1!D5 -> Geboortedatum | C5: =G5 & "@constructiv.be" -> Scholen@constructiv.be | D5: NL | E5: 230628-27627-TF | F5: =+Sheet1!F5 -> Taal / Langue | G5: =SUBSTITUTE(SUBSTITUTE(Sheet1!G5,".",""),"-","") -> Scholen | H5: Spoorwegwerken Sessie 4A
A6: =+Sheet1!E8 -> 0 | B6: =+Sheet1!D8 -> (jj/mm/aaaa) | C6: =G6 & "@constructiv.be" -> @constructiv.be | D6: NL | E6: 230628-27627-TF | F6: =+Sheet1!F8 -> (NL/FR/EN/DE/PT) - (VCA VOL : NL/FR/EN/DE) | G6: =SUBSTITUTE(SUBSTITUTE(Sheet1!G8,".",""),"-","") | H6: Spoorwegwerken Sessie 2A
A7: =+Sheet1!#REF! -> #REF! | B7: =+Sheet1!#REF! -> #REF! | C7: =G7 & "@constructiv.be" -> #REF! | D7: NL | E7: 230628-27627-TF | F7: =+Sheet1!#REF! -> #REF! | G7: =SUBSTITUTE(SUBSTITUTE(Sheet1!#REF!,".",""),"-","") -> #REF! | H7: Spoorwegwerken Sessie 2A
A8: =+Sheet1!#REF! -> #REF! | B8: =+Sheet1!#REF! -> #REF! | C8: =G8 & "@constructiv.be" -> #REF! | D8: NL | E8: 230628-27627-TF | F8: =+Sheet1!#REF! -> #REF! | G8: =SUBSTITUTE(SUBSTITUTE(Sheet1!#REF!,".",""),"-","") -> #REF! | H8: Spoorwegwerken Sessie 2A
A9: =+Sheet1!#REF! -> #REF! | B9: =+Sheet1!#REF! -> #REF! | C9: =G9 & "@constructiv.be" -> #REF! | D9: NL | E9: 230628-27627-TF | F9: =+Sheet1!#REF! -> #REF! | G9: =SUBSTITUTE(SUBSTITUTE(Sheet1!#REF!,".",""),"-","") -> #REF! | H9: Spoorwegwerken Sessie 4A
A10: =+Sheet1!#REF! -> #REF! | B10: =+Sheet1!#REF! -> #REF! | C10: =G10 & "@constructiv.be" -> #REF! | D10: NL | E10: 230628-27627-TF | F10: =+Sheet1!#REF! -> #REF! | G10: =SUBSTITUTE(SUBSTITUTE(Sheet1!#REF!,".",""),"-","") -> #REF! | H10: Spoorwegwerken Sessie 3B
A11: =+Sheet1!#REF! -> #REF! | B11: =+Sheet1!#REF! -> #REF! | C11: =G11 & "@constructiv.be" -> #REF! | D11: NL | E11: 230628-27627-TF | F11: =+Sheet1!#REF! -> #REF! | G11: =SUBSTITUTE(SUBSTITUTE(Sheet1!#REF!,".",""),"-","") -> #REF! | H11: Spoorwegwerken Sessie 4A
A12: =+Sheet1!#REF! -> #REF! | B12: =+Sheet1!#REF! -> #REF! | C12: =G12 & "@constructiv.be" -> #REF! | D12: NL | E12: 230628-27627-TF | F12: =+Sheet1!#REF! -> #REF! | G12: =SUBSTITUTE(SUBSTITUTE(Sheet1!#REF!,".",""),"-","") -> #REF! | H12: Spoorwegwerken Sessie 1A
A13: =+Sheet1!#REF! -> #REF! | B13: =+Sheet1!#REF! -> #REF! | C13: =G13 & "@constructiv.be" -> #REF! | D13: NL | E13: 230628-27627-TF | F13: =+Sheet1!#REF! -> #REF! | G13: =SUBSTITUTE(SUBSTITUTE(Sheet1!#REF!,".",""),"-","") -> #REF! | H13: Spoorwegwerken Sessie 4A
A14: =+Sheet1!#REF! -> #REF! | B14: =+Sheet1!#REF! -> #REF! | C14: =G14 & "@constructiv.be" -> #REF! | D14: NL | E14: 230628-27627-TF | F14: =+Sheet1!#REF! -> #REF! | G14: =SUBSTITUTE(SUBSTITUTE(Sheet1!#REF!,".",""),"-","") -> #REF! | H14: Spoorwegwerken Sessie 4A
A15: =+Sheet1!#REF! -> #REF! | B15: =+Sheet1!#REF! -> #REF! | C15: =G15 & "@constructiv.be" -> #REF! | D15: NL | E15: 230628-27627-TF | F15: =+Sheet1!#REF! -> #REF! | G15: =SUBSTITUTE(SUBSTITUTE(Sheet1!#REF!,".",""),"-","") -> #REF! | H15: Spoorwegwerken Sessie 2A
A16: =+Sheet1!#REF! -> #REF! | B16: =+Sheet1!#REF! -> #REF! | C16: =G16 & "@constructiv.be" -> #REF! | D16: NL | E16: 230628-27627-TF | F16: =+Sheet1!#REF! -> #REF! | G16: =SUBSTITUTE(SUBSTITUTE(Sheet1!#REF!,".",""),"-","") -> #REF! | H16: Spoorwegwerken Sessie 1A
A17: =+Sheet1!#REF! -> #REF! | B17: =+Sheet1!#REF! -> #REF! | C17: =G17 & "@constructiv.be" -> #REF! | D17: NL | E17: 230628-27627-TF | F17: =+Sheet1!#REF! -> #REF! | G17: =SUBSTITUTE(SUBSTITUTE(Sheet1!#REF!,".",""),"-","") -> #REF! | H17: Spoorwegwerken Sessie 1A
A18: =+Sheet1!#REF! -> #REF! | B18: =+Sheet1!#REF! -> #REF! | C18: =G18 & "@constructiv.be" -> #REF! | D18: NL | E18: 230628-27627-TF | F18: =+Sheet1!#REF! -> #REF! | G18: =SUBSTITUTE(SUBSTITUTE(Sheet1!#REF!,".",""),"-","") -> #REF! | H18: Spoorwegwerken Sessie 1B
... A20: =+Sheet1!#REF! -> #REF! | B20: =+Sheet1!#REF! -> #REF! | C20: =G20 & "@constructiv.be" -> #REF! | D20: NL | E20: 230628-27627-TF | F20: =+Sheet1!#REF! -> #REF! | G20: =SUBSTITUTE(SUBSTITUTE(Sheet1!#REF!,".",""),"-","") -> #REF! | H20: Spoorwegwerken Sessie 2A
A21: =+Sheet1!E9 -> 0 | B21: =+Sheet1!D9 -> 0 | C21: =G21 & "@constructiv.be" -> @constructiv.be | D21: NL | E21: 230628-27627-TF | F21: =+Sheet1!F9 -> 0 | G21: =SUBSTITUTE(SUBSTITUTE(Sheet1!G9,".",""),"-","") | H21: Spoorwegwerken Sessie 4B
A22: =+Sheet1!E10 -> 0 | B22: =+Sheet1!D10 -> 0 | C22: =G22 & "@constructiv.be" -> @constructiv.be | D22: NL | E22: 230628-27627-TF | F22: =+Sheet1!F10 -> 0 | G22: =SUBSTITUTE(SUBSTITUTE(Sheet1!G10,".",""),"-","") | H22: Spoorwegwerken Sessie 4B
A23: =+Sheet1!E11 -> 0 | B23: =+Sheet1!D11 -> 0 | C23: =G23 & "@constructiv.be" -> @constructiv.be | D23: NL | E23: 230628-27627-TF | F23: =+Sheet1!F11 -> 0 | G23: =SUBSTITUTE(SUBSTITUTE(Sheet1!G11,".",""),"-","") | H23: Spoorwegwerken Sessie 4B
A24: =+Sheet1!E12 -> 0 | B24: =+Sheet1!D12 -> 0 | C24: =G24 & "@constructiv.be" -> 71091711111@constructiv.be | D24: NL | E24: 230628-27627-TF | F24: =+Sheet1!F12 -> 0 | G24: 71091711111 | H24: Spoorwegwerken Sessie 3A
A25: =+Sheet1!E13 -> 0 | B25: =+Sheet1!D13 -> 0 | C25: =G25 & "@constructiv.be" -> @constructiv.be | D25: NL | E25: 230628-27627-TF | F25: =+Sheet1!F13 -> 0 | G25: =SUBSTITUTE(SUBSTITUTE(Sheet1!G13,".",""),"-","") | H25: Spoorwegwerken Sessie 1B
A26: =+Sheet1!E14 -> 0 | B26: =+Sheet1!D14 -> 0 | C26: =G26 & "@constructiv.be" -> @constructiv.be | D26: NL | E26: 230628-27627-TF | F26: =+Sheet1!F14 -> 0 | G26: =SUBSTITUTE(SUBSTITUTE(Sheet1!G14,".",""),"-","") | H26: Spoorwegwerken Sessie 1B
A27: =+Sheet1!E15 -> 0 | B27: =+Sheet1!D15 -> 0 | C27: =G27 & "@constructiv.be" -> @constructiv.be | D27: NL | E27: 230628-27627-TF | F27: =+Sheet1!F15 -> 0 | G27: =SUBSTITUTE(SUBSTITUTE(Sheet1!G15,".",""),"-","") | H27: Spoorwegwerken Sessie 1B
A28: =+Sheet1!E16 -> 0 | B28: =+Sheet1!D16 -> 0 | C28: =G28 & "@constructiv.be" -> @constructiv.be | D28: NL | E28: 230628-27627-TF | F28: =+Sheet1!F16 -> 0 | G28: =SUBSTITUTE(SUBSTITUTE(Sheet1!G16,".",""),"-","") | H28: Spoorwegwerken Sessie 4B
A29: =+Sheet1!E17 -> 0 | B29: =+Sheet1!D17 -> 0 | C29: =G29 & "@constructiv.be" -> @constructiv.be | D29: NL | E29: 230628-27627-TF | F29: =+Sheet1!F17 -> 0 | G29: =SUBSTITUTE(SUBSTITUTE(Sheet1!G17,".",""),"-","") | H29: Spoorwegwerken Sessie 4B
A30: =+Sheet1!E18 -> 0 | B30: =+Sheet1!D18 -> 0 | C30: =G30 & "@constructiv.be" -> @constructiv.be | D30: NL | E30: 230628-27627-TF | F30: =+Sheet1!F18 -> 0 | G30: =SUBSTITUTE(SUBSTITUTE(Sheet1!G18,".",""),"-","") | H30: Spoorwegwerken Sessie 3A
A31: =+Sheet1!E19 -> 0 | B31: =+Sheet1!D19 -> 0 | C31: =G31 & "@constructiv.be" -> @constructiv.be | D31: NL | E31: 230628-27627-TF | F31: =+Sheet1!F19 -> 0 | G31: =SUBSTITUTE(SUBSTITUTE(Sheet1!G19,".",""),"-","") | H31: Spoorwegwerken Sessie 3A
A32: =+Sheet1!E20 -> 0 | B32: =+Sheet1!D20 -> 0 | C32: =G32 & "@constructiv.be" -> @constructiv.be | D32: NL | E32: 230628-27627-TF | F32: =+Sheet1!F20 -> 0 | G32: =SUBSTITUTE(SUBSTITUTE(Sheet1!G20,".",""),"-","") | H32: Spoorwegwerken Sessie 3A
A33: =+Sheet1!E21 -> 0 | B33: =+Sheet1!D21 -> 0 | C33: =G33 & "@constructiv.be" -> @constructiv.be | D33: NL | E33: 230628-27627-TF | F33: =+Sheet1!F21 -> 0 | G33: =SUBSTITUTE(SUBSTITUTE(Sheet1!G21,".",""),"-","") | H33: Spoorwegwerken Sessie 3A
A34: =+Sheet1!E22 -> 0 | B34: =+Sheet1!D22 -> 0 | C34: =G34 & "@constructiv.be" -> @constructiv.be | D34: NL | E34: 230628-27627-TF | F34: =+Sheet1!F22 -> 0 | G34: =SUBSTITUTE(SUBSTITUTE(Sheet1!G22,".",""),"-","") | H34: Spoorwegwerken Sessie 1A
A35: =+Sheet1!E23 -> 0 | B35: =+Sheet1!D23 -> 0 | C35: =G35 & "@constructiv.be" -> @constructiv.be | D35: NL | E35: 230628-27627-TF | F35: =+Sheet1!F23 -> 0 | G35: =SUBSTITUTE(SUBSTITUTE(Sheet1!G23,".",""),"-","") | H35: Spoorwegwerken Sessie 1B
A36: =+Sheet1!E24 -> 0 | B36: =+Sheet1!D24 -> 0 | C36: =G36 & "@constructiv.be" -> @constructiv.be | D36: NL | E36: 230628-27627-TF | F36: =+Sheet1!F24 -> 0 | G36: =SUBSTITUTE(SUBSTITUTE(Sheet1!G24,".",""),"-","") | H36: Spoorwegwerken Sessie 2A
A37: =+Sheet1!#REF! -> #REF! | B37: =+Sheet1!#REF! -> #REF! | C37: =G37 & "@constructiv.be" -> #REF! | D37: NL | E37: 230628-27627-TF | F37: =+Sheet1!#REF! -> #REF! | G37: =SUBSTITUTE(SUBSTITUTE(Sheet1!#REF!,".",""),"-","") -> #REF! | H37: Spoorwegwerken Sessie 2B
A38: =+Sheet1!#REF! -> #REF! | B38: =+Sheet1!#REF! -> #REF! | C38: =G38 & "@constructiv.be" -> #REF! | D38: NL | E38: 230628-27627-TF | F38: =+Sheet1!#REF! -> #REF! | G38: =SUBSTITUTE(SUBSTITUTE(Sheet1!#REF!,".",""),"-","") -> #REF! | H38: Spoorwegwerken Sessie 2B
A39: =+Sheet1!#REF! -> #REF! | B39: =+Sheet1!#REF! -> #REF! | C39: =G39 & "@constructiv.be" -> #REF! | D39: NL | E39: 230628-27627-TF | F39: =+Sheet1!#REF! -> #REF! | G39: =SUBSTITUTE(SUBSTITUTE(Sheet1!#REF!,".",""),"-","") -> #REF! | H39: Spoorwegwerken Sessie 2B
A40: =+Sheet1!#REF! -> #REF! | B40: =+Sheet1!#REF! -> #REF! | C40: =G40 & "@constructiv.be" -> #REF! | D40: NL | E40: 230628-27627-TF | F40: =+Sheet1!#REF! -> #REF! | G40: =SUBSTITUTE(SUBSTITUTE(Sheet1!#REF!,".",""),"-","") -> #REF! | H40: Spoorwegwerken Sessie 2B
A41: =+Sheet1!#REF! -> #REF! | B41: =+Sheet1!#REF! -> #REF! | C41: =G41 & "@constructiv.be" -> #REF! | D41: NL | E41: 230628-27627-TF | F41: =+Sheet1!#REF! -> #REF! | G41: =SUBSTITUTE(SUBSTITUTE(Sheet1!#REF!,".",""),"-","") -> #REF! | H41: Spoorwegwerken Sessie 2B
A42: =+Sheet1!#REF! -> #REF! | B42: =+Sheet1!#REF! -> #REF! | C42: =G42 & "@constructiv.be" -> #REF! | D42: NL | E42: 230628-27627-TF | F42: =+Sheet1!#REF! -> #REF! | G42: =SUBSTITUTE(SUBSTITUTE(Sheet1!#REF!,".",""),"-","") -> #REF! | H42: Spoorwegwerken Sessie 3A
A43: =+Sheet1!#REF! -> #REF! | B43: =+Sheet1!#REF! -> #REF! | C43: =G43 & "@constructiv.be" -> #REF! | D43: NL | E43: 230628-27627-TF | F43: =+Sheet1!#REF! -> #REF! | G43: =SUBSTITUTE(SUBSTITUTE(Sheet1!#REF!,".",""),"-","") -> #REF! | H43: Spoorwegwerken Sessie 3B
A44: =+Sheet1!#REF! -> #REF! | B44: =+Sheet1!#REF! -> #REF! | C44: =G44 & "@constructiv.be" -> #REF! | D44: NL | E44: 230628-27627-TF | F44: =+Sheet1!#REF! -> #REF! | G44: =SUBSTITUTE(SUBSTITUTE(Sheet1!#REF!,".",""),"-","") -> #REF! | H44: Spoorwegwerken Sessie 3B
A45: =+Sheet1!#REF! -> #REF! | B45: =+Sheet1!#REF! -> #REF! | C45: =G45 & "@constructiv.be" -> #REF! | D45: NL | E45: 230628-27627-TF | F45: =+Sheet1!#REF! -> #REF! | G45: =SUBSTITUTE(SUBSTITUTE(Sheet1!#REF!,".",""),"-","") -> #REF! | H45: Spoorwegwerken Sessie 3B
A46: =+Sheet1!#REF! -> #REF! | B46: =+Sheet1!#REF! -> #REF! | C46: =G46 & "@constructiv.be" -> #REF! | D46: NL | E46: 230628-27627-TF | F46: =+Sheet1!#REF! -> #REF! | G46: =SUBSTITUTE(SUBSTITUTE(Sheet1!#REF!,".",""),"-","") -> #REF! | H46: Spoorwegwerken Sessie 3B
A47: =+Sheet1!#REF! -> #REF! | B47: =+Sheet1!#REF! -> #REF! | C47: =G47 & "@constructiv.be" -> #REF! | D47: NL | E47: 230628-27627-TF | F47: =+Sheet1!#REF! -> #REF! | G47: =SUBSTITUTE(SUBSTITUTE(Sheet1!#REF!,".",""),"-","") -> #REF! | H47: Spoorwegwerken Sessie 3B
A48: =+Sheet1!#REF! -> #REF! | B48: =+Sheet1!#REF! -> #REF! | C48: =G48 & "@constructiv.be" -> #REF! | D48: NL | E48: 230628-27627-TF | F48: =+Sheet1!#REF! -> #REF! | G48: =SUBSTITUTE(SUBSTITUTE(Sheet1!#REF!,".",""),"-","") -> #REF! | H48: Spoorwegwerken Sessie 2B
